BEGIN:VCALENDAR
VERSION:2.0
PRODID:-//Library Market//iCal Export//EN
BEGIN:VEVENT
SUMMARY:Bouncing Babies
UID:9492
DTSTAMP:20260421T083600Z
DTSTART:20260501T133000Z
DTEND:20260501T140000Z
LOCATION:Ruth Culver Community Library, 540 Water Street, Prairie du Sac, 
 WI 53578, United States
ROOM: Community Room
DESCRIPTION:Join Miss Bethany for a storytime geared for ages 0-23 months 
 focusing on songs, fingerplays, and short books to grow their minds and mo
 tor skills. Fridays at 8:30am (before the library opens).
URL:https://ruthculver.librarycalendar.com/event/bouncing-babies-9492
END:VEVENT
END:VCALENDAR
