BEGIN:VCALENDAR
VERSION:2.0
PRODID:-//Library Market//iCal Export//EN
BEGIN:VEVENT
SUMMARY:Tiny Tots
UID:9502
DTSTAMP:20260420T220100Z
DTSTART:20260508T150000Z
DTEND:20260508T154500Z
LOCATION:Ruth Culver Community Library, 540 Water Street, Prairie du Sac, 
 WI 53578, United States
ROOM: Community Room
DESCRIPTION:Geared towards ages 2-3, Tiny Tots is held Fridays at 10:00am 
 and will focus on shorter books, puppets, songs, and movement activities w
 ith a playtime afterwards.  This storytime is a good option for those who
  have outgrown our Bouncing Babies storytime but may not be quite ready fo
 r the longer books in our regular storytimes.
URL:https://ruthculver.librarycalendar.com/event/tiny-tots-9502
END:VEVENT
END:VCALENDAR
