BEGIN:VCALENDAR
VERSION:2.0
PRODID:-//Library Market//iCal Export//EN
BEGIN:VEVENT
SUMMARY:Storytime
UID:9511
DTSTAMP:20260421T083600Z
DTSTART:20260521T150000Z
DTEND:20260521T154500Z
LOCATION:Ruth Culver Community Library, 540 Water Street, Prairie du Sac, 
 WI 53578, United States
ROOM: Community Room
DESCRIPTION:Join Miss Bethany for movement, music, and stories at in-perso
 n storytimes in the library community room! Storytimes recommended for chi
 ldren ages 3+ are Tuesdays and Thursdays at 10:00 am.
URL:https://ruthculver.librarycalendar.com/event/storytime-9511
END:VEVENT
END:VCALENDAR
